BEGIN:VCALENDAR
METHOD:REQUEST
PRODID:Microsoft Exchange Server 2010
VERSION:2.0
BEGIN:VTIMEZONE
TZID:Pacific Standard Time
BEGIN:STANDARD
DTSTART:16010101T020000
TZOFFSETFROM:-0700
TZOFFSETTO:-0800
RRULE:FREQ=YEARLY;INTERVAL=1;BYDAY=1SU;BYMONTH=11
END:STANDARD
BEGIN:DAYLIGHT
DTSTART:16010101T020000
TZOFFSETFROM:-0800
TZOFFSETTO:-0700
RRULE:FREQ=YEARLY;INTERVAL=1;BYDAY=2SU;BYMONTH=3
END:DAYLIGHT
END:VTIMEZONE
BEGIN:VEVENT
ORGANIZER;CN="Chan King Choy, Nathalie":mailto:nathalie.chan-king-choy@amd.co
 m
ATTENDEE;ROLE=REQ-PARTICIPANT;PARTSTAT=NEEDS-ACTION;RSVP=TRUE;CN=OpenAMP Sy
 stem Reference (openamp-system-reference@lists.openampproject.org):mailto:
 openamp-system-reference@lists.openampproject.org
ATTENDEE;ROLE=REQ-PARTICIPANT;PARTSTAT=NEEDS-ACTION;RSVP=TRUE;CN=Bill Mills
 :mailto:bill.mills@linaro.org
ATTENDEE;ROLE=REQ-PARTICIPANT;PARTSTAT=NEEDS-ACTION;RSVP=TRUE;CN="Stabellini
 , Stefano":mailto:stefano.stabellini@amd.com
ATTENDEE;ROLE=OPT-PARTICIPANT;PARTSTAT=NEEDS-ACTION;RSVP=TRUE;CN="Levinsky, 
 Ben":mailto:ben.levinsky@amd.com
ATTENDEE;ROLE=OPT-PARTICIPANT;PARTSTAT=NEEDS-ACTION;RSVP=TRUE;CN="Shah, Tanm
 ay":mailto:tanmay.shah@amd.com
ATTENDEE;ROLE=OPT-PARTICIPANT;PARTSTAT=NEEDS-ACTION;RSVP=TRUE;CN=Beleswar P
 rasad Padhi:mailto:b-padhi@ti.com
ATTENDEE;ROLE=OPT-PARTICIPANT;PARTSTAT=NEEDS-ACTION;RSVP=TRUE;CN=Nathalie C
 han King Choy:mailto:nathalie-ckc@kestrel-omnitech.com
ATTENDEE;ROLE=OPT-PARTICIPANT;PARTSTAT=NEEDS-ACTION;RSVP=TRUE;CN=Arnaud POU
 LIQUEN:mailto:arnaud.pouliquen@st.com
DESCRIPTION;LANGUAGE=en-US:[Per discussion today\, pulling in the call to 4
 /15 because Arnaud will be OOO 4/22]\n\nMeeting notes posted at: https://g
 ithub.com/OpenAMP/openamp-system-reference/wiki/OpenAMP-System-Reference-M
 eeting-Notes-2026\n\n\n[https://st2.zoom.us/static/6.3.54678/image/new/Zoo
 mLogo_110_25.png]<https://zoom.com/>\nHi there\,\nNathalie Chan King Choy 
 is inviting you to a scheduled Zoom meeting.\nJoin Zoom Meeting<https://am
 d.zoom.us/j/99855591196?pwd=EMwQr8jl0vL6sS1cU4yxqqi7AZYvTa.1&from=addon>\n
 One tap mobile:\nUS: +19292056099\,\,99855591196#\,\,\,\,*9149471546#<tel:
 +19292056099\,\,99855591196#\,\,\,\,*9149471546#> or +16699006833\,\,99855
 591196#\,\,\,\,*9149471546#<tel:+16699006833\,\,99855591196#\,\,\,\,*91494
 71546#>\nMeeting URL:\nhttps://amd.zoom.us/j/99855591196?pwd=EMwQr8jl0vL6s
 S1cU4yxqqi7AZYvTa.1&from=addon\nMeeting ID:\n998 5559 1196\nPasscode:\nJnK
 Ze3*jjS\nJoin by Telephone\nFor higher quality\, dial a number based on yo
 ur current location.\nDial:\n+1 929 205 6099 US (New York)\n+1 669 900 683
 3 US (San Jose)\n+1 720 928 9299 US (Denver)\n833 928 4609 US Toll-free\n8
 33 928 4610 US Toll-free\n877 853 5257 US Toll-free\n888 475 4499 US Toll-
 free\n833 548 0276 US Toll-free\n833 548 0282 US Toll-free\n833 928 4608 U
 S Toll-free\n+91 406 480 2722 India\n+91 446 480 2722 India\n+91 806 480 2
 722 India\n+91 80 71 279 440 India\n+91 116 480 2722 India\n+91 226 480 27
 22 India\n+91 22 71 279 525 India\n000 800 001 4002 India Toll-free\n000 8
 00 050 5050 India Toll-free\n000 800 050 2340 India Toll-free\n000 800 050
  2400 India Toll-free\n+353 6 163 9031 Ireland\n+353 1 536 9320 Ireland\n+
 353 1 653 3895 Ireland\n1800 719 875 Ireland Toll-free\n1800 901 561 Irela
 nd Toll-free\n1800 943 965 Ireland Toll-free\n1800 949 238 Ireland Toll-fr
 ee\n+65 3158 7288 Singapore\n+65 3165 1065 Singapore\n800 852 6054 Singapo
 re Toll-free\n1800 407 5602 Singapore Toll-free\n800 101 3814 Singapore To
 ll-free\nMeeting ID:\n998 5559 1196\nPasscode:\n9149471546\nInternational 
 numbers<https://amd.zoom.us/u/abcC3tB68C>\nJoin from an H.323/SIP room sys
 tem\nH.323:\n144.195.19.161 (US West)\n206.247.11.121 (US East)\n221.122.8
 8.195 (Mainland China)\n137.66.136.22 (India Mumbai)\n137.66.140.8 (India 
 Hyderabad)\n159.124.15.191 (Amsterdam Netherlands)\n159.124.47.249 (German
 y)\n159.124.104.213 (Australia Sydney)\n159.124.74.212 (Australia Melbourn
 e)\n170.114.134.121 (Hong Kong SAR)\n170.114.180.219 (Singapore)\n64.211.1
 44.160 (Brazil)\n159.124.168.213 (Canada Toronto)\n159.124.196.25 (Canada 
 Vancouver)\n170.114.194.163 (Japan Tokyo)\n147.124.100.25 (Japan Osaka)\nM
 eeting ID:\n998 5559 1196\nPasscode:\n9149471546\nSIP:\n99855591196@zoomcr
 c.com<mailto:99855591196@zoomcrc.com>\nPasscode:\n9149471546\n\n
UID:040000008200E00074C5B7101A82E008000000003062333A6FBCDC01000000000000000
 010000000CCC61B834F0B73489E4E7FD74AC0FEB5
RECURRENCE-ID;TZID=Pacific Standard Time:20260422T090000
SUMMARY;LANGUAGE=en-US:OpenAMP System Reference - Daylight Savings 2026
DTSTART;TZID=Pacific Standard Time:20260415T090000
DTEND;TZID=Pacific Standard Time:20260415T100000
CLASS:PUBLIC
PRIORITY:5
DTSTAMP:20260408T221508Z
TRANSP:OPAQUE
STATUS:CONFIRMED
SEQUENCE:1
LOCATION;LANGUAGE=en-US:https://amd.zoom.us/j/99855591196?pwd=EMwQr8jl0vL6s
 S1cU4yxqqi7AZYvTa.1&from=addon
X-MICROSOFT-CDO-APPT-SEQUENCE:1
X-MICROSOFT-CDO-OWNERAPPTID:-2089207830
X-MICROSOFT-CDO-BUSYSTATUS:TENTATIVE
X-MICROSOFT-CDO-INTENDEDSTATUS:BUSY
X-MICROSOFT-CDO-ALLDAYEVENT:FALSE
X-MICROSOFT-CDO-IMPORTANCE:1
X-MICROSOFT-CDO-INSTTYPE:3
X-MICROSOFT-SKYPETEAMSMEETINGURL:
X-MICROSOFT-SCHEDULINGSERVICEUPDATEURL:
X-MICROSOFT-SKYPETEAMSPROPERTIES:
X-MICROSOFT-DONOTFORWARDMEETING:FALSE
X-MICROSOFT-DISALLOW-COUNTER:FALSE
X-MICROSOFT-REQUESTEDATTENDANCEMODE:DEFAULT
X-MICROSOFT-ISRESPONSEREQUESTED:TRUE
X-MICROSOFT-LOCATIONS:[{"DisplayName":"https://amd.zoom.us/j/99855591196?pw
 d=EMwQr8jl0vL6sS1cU4yxqqi7AZYvTa.1&from=addon"\,"LocationAnnotation":""\,"
 LocationUri":""\,"LocationStreet":""\,"LocationCity":""\,"LocationState":"
 "\,"LocationCountry":""\,"LocationPostalCode":""\,"LocationFullAddress":""
 }]
BEGIN:VALARM
DESCRIPTION:REMINDER
TRIGGER;RELATED=START:-PT15M
ACTION:DISPLAY
END:VALARM
END:VEVENT
END:VCALENDAR
